BEGIN:VCALENDAR
VERSION:2.0
PRODID:-//Hallett Cove East Primary School - ECPv4.8.2//NONSGML v1.0//EN
CALSCALE:GREGORIAN
METHOD:PUBLISH
X-WR-CALNAME:Hallett Cove East Primary School
X-ORIGINAL-URL:https://halcoveeps.sa.edu.au
X-WR-CALDESC:Events for Hallett Cove East Primary School
BEGIN:VEVENT
DTSTART;VALUE=DATE:20200128
DTEND;VALUE=DATE:20200129
DTSTAMP:20200228T071917
CREATED:20200126T015541Z
LAST-MODIFIED:20200126T015541Z
UID:2675-1580169600-1580255999@halcoveeps.sa.edu.au
SUMMARY:Welcome Back
DESCRIPTION:2020 school year begins today \n
URL:https://halcoveeps.sa.edu.au/event/welcome-back/
CATEGORIES:Community,School
ATTACH;FMTTYPE=image/png:https://halcoveeps.sa.edu.au/wp-content/uploads/2020/01/2020-welcome-back-01.png
END:VEVENT
BEGIN:VEVENT
DTSTART;TZID=Australia/Adelaide:20200203T090000
DTEND;TZID=Australia/Adelaide:20200203T093000
DTSTAMP:20200228T071917
CREATED:20200126T020242Z
LAST-MODIFIED:20200126T022436Z
UID:2677-1580720400-1580722200@halcoveeps.sa.edu.au
SUMMARY:School Banking
DESCRIPTION:Commences for 2020 today\, school banking is coordinated by a school volunteer group on most Mondays for the school terms.  Generally if there is a long weekend or a pupil free day scheduled\, banking will be carried out on Tuesdays.  \n
URL:https://halcoveeps.sa.edu.au/event/school-banking/
CATEGORIES:Community,School
ATTACH;FMTTYPE=image/jpeg:https://halcoveeps.sa.edu.au/wp-content/uploads/2020/01/monday-school-banking-day.jpg
END:VEVENT
BEGIN:VEVENT
DTSTART;VALUE=DATE:20200211
DTEND;VALUE=DATE:20200212
DTSTAMP:20200228T071917
CREATED:20200207T093748Z
LAST-MODIFIED:20200208T105624Z
UID:2694-1581379200-1581465599@halcoveeps.sa.edu.au
SUMMARY:Aquaintance Meetings
DESCRIPTION:Acquaintance Meeting evening to be held next Tuesday 11th February from 6:00pm-7:30pm\, via Skoolbag. \nAside from the 2 classroom teacher acquaintance sessions\, Kirsten Wallis and Kirsty Gray will be available in House 5 to share information about Japanese\, Ellie Burford will be available in 9E to share information about PE/Science and Evie Donoghue will be available in the Music room (House 1) and will be available to talk about both Performing Arts programs and Wellbeing initiatives. We look forward to seeing you all there on Tuesday. \nIndividual parent/teacher/student meetings will be held later in the year and we will provide further details of these meetings in due course. \n
URL:https://halcoveeps.sa.edu.au/event/aquaintance-meetings/
CATEGORIES:Community,School
ATTACH;FMTTYPE=image/png:https://halcoveeps.sa.edu.au/wp-content/uploads/2020/02/Bees-Wax-Wraps-01.png
END:VEVENT
BEGIN:VEVENT
DTSTART;VALUE=DATE:20200214
DTEND;VALUE=DATE:20200215
DTSTAMP:20200228T071917
CREATED:20200207T094148Z
LAST-MODIFIED:20200208T110038Z
UID:2696-1581638400-1581724799@halcoveeps.sa.edu.au
SUMMARY:Whole School Assembly
DESCRIPTION:Leadership Groups – Assembly starts at 2.15pm our assemblies are whole school events\, all welcome \n
URL:https://halcoveeps.sa.edu.au/event/whole-school-assembly-2/
CATEGORIES:Community,School
ATTACH;FMTTYPE=image/png:https://halcoveeps.sa.edu.au/wp-content/uploads/2020/02/assembly-14th-feb-01.png
END:VEVENT
END:VCALENDAR